BEGIN:VCALENDAR
VERSION:2.0
PRODID:-//Association CADET - ECPv6.15.20//NONSGML v1.0//EN
CALSCALE:GREGORIAN
METHOD:PUBLISH
X-WR-CALNAME:Association CADET
X-ORIGINAL-URL:https://cadet-association.fr
X-WR-CALDESC:Évènements pour Association CADET
REFRESH-INTERVAL;VALUE=DURATION:PT1H
X-Robots-Tag:noindex
X-PUBLISHED-TTL:PT1H
BEGIN:VTIMEZONE
TZID:Europe/Paris
BEGIN:DAYLIGHT
TZOFFSETFROM:+0100
TZOFFSETTO:+0200
TZNAME:CEST
DTSTART:20250330T010000
END:DAYLIGHT
BEGIN:STANDARD
TZOFFSETFROM:+0200
TZOFFSETTO:+0100
TZNAME:CET
DTSTART:20251026T010000
END:STANDARD
BEGIN:DAYLIGHT
TZOFFSETFROM:+0100
TZOFFSETTO:+0200
TZNAME:CEST
DTSTART:20260329T010000
END:DAYLIGHT
BEGIN:STANDARD
TZOFFSETFROM:+0200
TZOFFSETTO:+0100
TZNAME:CET
DTSTART:20261025T010000
END:STANDARD
BEGIN:DAYLIGHT
TZOFFSETFROM:+0100
TZOFFSETTO:+0200
TZNAME:CEST
DTSTART:20270328T010000
END:DAYLIGHT
BEGIN:STANDARD
TZOFFSETFROM:+0200
TZOFFSETTO:+0100
TZNAME:CET
DTSTART:20271031T010000
END:STANDARD
END:VTIMEZONE
BEGIN:VEVENT
DTSTART;VALUE=DATE:20260424
DTEND;VALUE=DATE:20260426
DTSTAMP:20260424T231321
CREATED:20251204T144506Z
LAST-MODIFIED:20260409T232709Z
UID:10000271-1776988800-1777161599@cadet-association.fr
SUMMARY:Diplopie : Comment la prendre en charge ?
DESCRIPTION:
URL:https://cadet-association.fr/event/diplopie-comment-la-prendre-en-charge-7/
END:VEVENT
BEGIN:VEVENT
DTSTART;VALUE=DATE:20260424
DTEND;VALUE=DATE:20260506
DTSTAMP:20260424T231321
CREATED:20250324T133111Z
LAST-MODIFIED:20251203T174327Z
UID:10000250-1776988800-1778025599@cadet-association.fr
SUMMARY:Fatigue visuelle\, troubles de l'accommodation et ergonomie sur écrans
DESCRIPTION:
URL:https://cadet-association.fr/event/fatigue-visuelle-troubles-de-laccommodation-et-ergonomie-sur-ecrans-module-1-2/
END:VEVENT
END:VCALENDAR